BEGIN:VCALENDAR
VERSION:2.0
PRODID:-//104.24.124.119//NONSGML kigkonsult.se iCalcreator 2.20//
CALSCALE:GREGORIAN
METHOD:PUBLISH
X-WR-CALNAME:Our Lady Queen of Peace Bray
X-WR-CALDESC:
X-FROM-URL:http://www.queenofpeace.ie
X-WR-TIMEZONE:Europe/Dublin
BEGIN:VTIMEZONE
TZID:Europe/Dublin
X-LIC-LOCATION:Europe/Dublin
BEGIN:STANDARD
DTSTART:20171029T020000
TZOFFSETFROM:+0100
TZOFFSETTO:+0000
TZNAME:GMT
END:STANDARD
BEGIN:DAYLIGHT
DTSTART:20180325T010000
TZOFFSETFROM:+0000
TZOFFSETTO:+0100
TZNAME:IST
END:DAYLIGHT
END:VTIMEZONE
BEGIN:VEVENT
UID:ai1ec-1750@www.queenofpeace.ie
DTSTAMP:20171107T125705Z
CATEGORIES:
CONTACT:
DESCRIPTION:<p>Teas & Coffee\, drinks and biscuits for the children after 1
 0.30am Mass. Good way to meet and greet new parishioners\, everyone welcom
 e.</p>
DTSTART;TZID=Europe/Dublin:20151206T223000
DTEND;TZID=Europe/Dublin:20151206T233000
EXDATE;TZID=Europe/Dublin:20160306T223000
EXDATE;TZID=Europe/Dublin:20160313T223000
LOCATION:Villa Pacis (Parish Centre)
RRULE:FREQ=MONTHLY;BYDAY=1SU
SEQUENCE:0
SUMMARY:Refreshments after Mass
URL:http://www.queenofpeace.ie/event/refreshments-after-mass/
X-COST-TYPE:free
END:VEVENT
END:VCALENDAR
